BEGIN:VCALENDAR
VERSION:2.0
PRODID:-//law.utexas.edu//Course Schedule//EN
CALSCALE:GREGORIAN
METHOD:PUBLISH
BEGIN:VTIMEZONE
TZID:America/Chicago
X-LIC-LOCATION:America/Chicago
BEGIN:DAYLIGHT
TZOFFSETFROM:-0600
TZOFFSETTO:-0500
TZNAME:CDT
DTSTART:19700308T020000
RRULE:FREQ=YEARLY;BYMONTH=3;BYDAY=2SU
END:DAYLIGHT
BEGIN:STANDARD
TZOFFSETFROM:-0500
TZOFFSETTO:-0600
TZNAME:CST
DTSTART:19701101T020000
RRULE:FREQ=YEARLY;BYMONTH=11;BYDAY=1SU
END:STANDARD
END:VTIMEZONE
BEGIN:VEVENT
SUMMARY:Criminal Law I
LOCATION:TNH 3.127
DTSTART;TZID=America/Chicago:20260420T141500
DTEND;TZID=America/Chicago:20260420T150500
RRULE:FREQ=WEEKLY;BYDAY=MO,TU,WE;UNTIL=20260419T220000
UID:1780f21b9b1680766f20baf3547637f1
DTSTAMP:20260419T110611
DESCRIPTION:Instructors: Steven Goode
END:VEVENT
BEGIN:VEVENT
SUMMARY:Criminal Law I
LOCATION:TNH 3.142
DTSTART;TZID=America/Chicago:20260423T153000
DTEND;TZID=America/Chicago:20260423T162000
RRULE:FREQ=WEEKLY;BYDAY=TH;UNTIL=20260419T220000
UID:28d042cea40cc18612d830487ce19683
DTSTAMP:20260419T110611
DESCRIPTION:Instructors: Steven Goode
END:VEVENT
END:VCALENDAR
