BEGIN:VCALENDAR
VERSION:2.0
PRODID:-//law.utexas.edu//Course Schedule//EN
CALSCALE:GREGORIAN
METHOD:PUBLISH
BEGIN:VTIMEZONE
TZID:America/Chicago
X-LIC-LOCATION:America/Chicago
BEGIN:DAYLIGHT
TZOFFSETFROM:-0600
TZOFFSETTO:-0500
TZNAME:CDT
DTSTART:19700308T020000
RRULE:FREQ=YEARLY;BYMONTH=3;BYDAY=2SU
END:DAYLIGHT
BEGIN:STANDARD
TZOFFSETFROM:-0500
TZOFFSETTO:-0600
TZNAME:CST
DTSTART:19701101T020000
RRULE:FREQ=YEARLY;BYMONTH=11;BYDAY=1SU
END:STANDARD
END:VTIMEZONE
BEGIN:VEVENT
SUMMARY:Legal Analysis and Communication
LOCATION:TNH 3.126
DTSTART;TZID=America/Chicago:20260420T141500
DTEND;TZID=America/Chicago:20260420T152200
RRULE:FREQ=WEEKLY;BYDAY=MO;UNTIL=20260419T220000
UID:762cae5311ff1f05bcb65a8ed7a08e0a
DTSTAMP:20260419T095821
DESCRIPTION:Instructors: Lori R. Mason
END:VEVENT
BEGIN:VEVENT
SUMMARY:Legal Analysis and Communication
LOCATION:TNH 3.126
DTSTART;TZID=America/Chicago:20260422T130700
DTEND;TZID=America/Chicago:20260422T141400
RRULE:FREQ=WEEKLY;BYDAY=WE;UNTIL=20260419T220000
UID:9d9f151b89d559ec772098de1f8a64f1
DTSTAMP:20260419T095821
DESCRIPTION:Instructors: Lori R. Mason
END:VEVENT
END:VCALENDAR
