BEGIN:VCALENDAR
VERSION:2.0
PRODID:-//law.utexas.edu//Course Schedule//EN
CALSCALE:GREGORIAN
METHOD:PUBLISH
BEGIN:VTIMEZONE
TZID:America/Chicago
X-LIC-LOCATION:America/Chicago
BEGIN:DAYLIGHT
TZOFFSETFROM:-0600
TZOFFSETTO:-0500
TZNAME:CDT
DTSTART:19700308T020000
RRULE:FREQ=YEARLY;BYMONTH=3;BYDAY=2SU
END:DAYLIGHT
BEGIN:STANDARD
TZOFFSETFROM:-0500
TZOFFSETTO:-0600
TZNAME:CST
DTSTART:19701101T020000
RRULE:FREQ=YEARLY;BYMONTH=11;BYDAY=1SU
END:STANDARD
END:VTIMEZONE
BEGIN:VEVENT
SUMMARY:Cutting-Edge Constitutional Litigation from the Trial Court to the Supreme Court
LOCATION:TNH 2.137
DTSTART;TZID=America/Chicago:20260420T161500
DTEND;TZID=America/Chicago:20260420T180500
RRULE:FREQ=WEEKLY;BYDAY=MO;UNTIL=20260419T220000
UID:142c3c9cf9d0e8656b8dcaf5c64d11e0
DTSTAMP:20260419T134817
DESCRIPTION:Instructors: Jeffrey T. Rowes, Scott Allen Keller
END:VEVENT
END:VCALENDAR
