BEGIN:VCALENDAR
VERSION:2.0
PRODID:-//law.utexas.edu//Course Schedule//EN
CALSCALE:GREGORIAN
METHOD:PUBLISH
BEGIN:VTIMEZONE
TZID:America/Chicago
X-LIC-LOCATION:America/Chicago
BEGIN:DAYLIGHT
TZOFFSETFROM:-0600
TZOFFSETTO:-0500
TZNAME:CDT
DTSTART:19700308T020000
RRULE:FREQ=YEARLY;BYMONTH=3;BYDAY=2SU
END:DAYLIGHT
BEGIN:STANDARD
TZOFFSETFROM:-0500
TZOFFSETTO:-0600
TZNAME:CST
DTSTART:19701101T020000
RRULE:FREQ=YEARLY;BYMONTH=11;BYDAY=1SU
END:STANDARD
END:VTIMEZONE
BEGIN:VEVENT
SUMMARY:Topics in Reentry: The Spectrum of the Criminal Justice System
LOCATION:JON 6.257
DTSTART;TZID=America/Chicago:20260423T154500
DTEND;TZID=America/Chicago:20260423T173500
RRULE:FREQ=WEEKLY;BYDAY=TH;UNTIL=20260419T220000
UID:cc9f13b012c59687d51aa4f98f5a7113
DTSTAMP:20260419T090225
DESCRIPTION:Instructors: Helen Anne Gaebler
END:VEVENT
END:VCALENDAR
