BEGIN:VCALENDAR
VERSION:2.0
PRODID:-//law.utexas.edu//Course Schedule//EN
CALSCALE:GREGORIAN
METHOD:PUBLISH
BEGIN:VTIMEZONE
TZID:America/Chicago
X-LIC-LOCATION:America/Chicago
BEGIN:DAYLIGHT
TZOFFSETFROM:-0600
TZOFFSETTO:-0500
TZNAME:CDT
DTSTART:19700308T020000
RRULE:FREQ=YEARLY;BYMONTH=3;BYDAY=2SU
END:DAYLIGHT
BEGIN:STANDARD
TZOFFSETFROM:-0500
TZOFFSETTO:-0600
TZNAME:CST
DTSTART:19701101T020000
RRULE:FREQ=YEARLY;BYMONTH=11;BYDAY=1SU
END:STANDARD
END:VTIMEZONE
BEGIN:VEVENT
SUMMARY:Texas Civil Procedure: Survey
LOCATION:TNH 3.125
DTSTART;TZID=America/Chicago:20260420T091000
DTEND;TZID=America/Chicago:20260420T100000
RRULE:FREQ=WEEKLY;BYDAY=MO,TU,WE,TH;UNTIL=20260419T220000
UID:9353d9b957a96c1a18db75d63952c01f
DTSTAMP:20260419T104225
DESCRIPTION:Instructors: F S. McCown
END:VEVENT
END:VCALENDAR
