BEGIN:VCALENDAR
VERSION:2.0
PRODID:-//law.utexas.edu//Course Schedule//EN
CALSCALE:GREGORIAN
METHOD:PUBLISH
BEGIN:VTIMEZONE
TZID:America/Chicago
X-LIC-LOCATION:America/Chicago
BEGIN:DAYLIGHT
TZOFFSETFROM:-0600
TZOFFSETTO:-0500
TZNAME:CDT
DTSTART:19700308T020000
RRULE:FREQ=YEARLY;BYMONTH=3;BYDAY=2SU
END:DAYLIGHT
BEGIN:STANDARD
TZOFFSETFROM:-0500
TZOFFSETTO:-0600
TZNAME:CST
DTSTART:19701101T020000
RRULE:FREQ=YEARLY;BYMONTH=11;BYDAY=1SU
END:STANDARD
END:VTIMEZONE
BEGIN:VEVENT
SUMMARY:Coastal Watersheds
LOCATION:JON 5.202/203
DTSTART;TZID=America/Chicago:20260428T103000
DTEND;TZID=America/Chicago:20260428T114500
RRULE:FREQ=WEEKLY;BYDAY=TU,TH;UNTIL=20260424T220000
UID:7336c2eac55b0465c53d1a35543939f5
DTSTAMP:20260424T130227
DESCRIPTION:Instructors: James W McClelland, Melinda E. Taylor
END:VEVENT
END:VCALENDAR
