BEGIN:VCALENDAR
VERSION:2.0
PRODID:-//law.utexas.edu//Course Schedule//EN
CALSCALE:GREGORIAN
METHOD:PUBLISH
BEGIN:VTIMEZONE
TZID:America/Chicago
X-LIC-LOCATION:America/Chicago
BEGIN:DAYLIGHT
TZOFFSETFROM:-0600
TZOFFSETTO:-0500
TZNAME:CDT
DTSTART:19700308T020000
RRULE:FREQ=YEARLY;BYMONTH=3;BYDAY=2SU
END:DAYLIGHT
BEGIN:STANDARD
TZOFFSETFROM:-0500
TZOFFSETTO:-0600
TZNAME:CST
DTSTART:19701101T020000
RRULE:FREQ=YEARLY;BYMONTH=11;BYDAY=1SU
END:STANDARD
END:VTIMEZONE
BEGIN:VEVENT
SUMMARY:Mediation
LOCATION:JON 6.207/208
DTSTART;TZID=America/Chicago:20260420T141500
DTEND;TZID=America/Chicago:20260420T153000
RRULE:FREQ=WEEKLY;BYDAY=MO;UNTIL=20260419T220000
UID:b13bf5c530d549a32c54ea11e8e72633
DTSTAMP:20260419T171744
DESCRIPTION:Instructors: Jeffrey Robert Jury
END:VEVENT
BEGIN:VEVENT
SUMMARY:Mediation
LOCATION:JON 6.206
DTSTART;TZID=America/Chicago:20260421T141500
DTEND;TZID=America/Chicago:20260421T153000
RRULE:FREQ=WEEKLY;BYDAY=TU;UNTIL=20260419T220000
UID:bc2957dfbb5209e6ae4d9053a14d061b
DTSTAMP:20260419T171744
DESCRIPTION:Instructors: Jeffrey Robert Jury
END:VEVENT
END:VCALENDAR
