BEGIN:VCALENDAR
VERSION:2.0
PRODID:-//law.utexas.edu//Course Schedule//EN
CALSCALE:GREGORIAN
METHOD:PUBLISH
BEGIN:VTIMEZONE
TZID:America/Chicago
X-LIC-LOCATION:America/Chicago
BEGIN:DAYLIGHT
TZOFFSETFROM:-0600
TZOFFSETTO:-0500
TZNAME:CDT
DTSTART:19700308T020000
RRULE:FREQ=YEARLY;BYMONTH=3;BYDAY=2SU
END:DAYLIGHT
BEGIN:STANDARD
TZOFFSETFROM:-0500
TZOFFSETTO:-0600
TZNAME:CST
DTSTART:19701101T020000
RRULE:FREQ=YEARLY;BYMONTH=11;BYDAY=1SU
END:STANDARD
END:VTIMEZONE
BEGIN:VEVENT
SUMMARY:Legal Analysis and Communication
LOCATION:TNH 3.125
DTSTART;TZID=America/Chicago:20260421T091000
DTEND;TZID=America/Chicago:20260421T101700
RRULE:FREQ=WEEKLY;BYDAY=TU;UNTIL=20260419T220000
UID:571c80c9c078b77804c6db6d5a1cfab5
DTSTAMP:20260419T095755
DESCRIPTION:Instructors: Lori R. Mason
END:VEVENT
BEGIN:VEVENT
SUMMARY:Legal Analysis and Communication
LOCATION:TNH 2.124
DTSTART;TZID=America/Chicago:20260423T091000
DTEND;TZID=America/Chicago:20260423T101700
RRULE:FREQ=WEEKLY;BYDAY=TH;UNTIL=20260419T220000
UID:686d5ab1aafc8fd6dbcdeb15c9d07369
DTSTAMP:20260419T095755
DESCRIPTION:Instructors: Lori R. Mason
END:VEVENT
END:VCALENDAR
