BEGIN:VCALENDAR
VERSION:2.0
PRODID:-//law.utexas.edu//Course Schedule//EN
CALSCALE:GREGORIAN
METHOD:PUBLISH
BEGIN:VTIMEZONE
TZID:America/Chicago
X-LIC-LOCATION:America/Chicago
BEGIN:DAYLIGHT
TZOFFSETFROM:-0600
TZOFFSETTO:-0500
TZNAME:CDT
DTSTART:19700308T020000
RRULE:FREQ=YEARLY;BYMONTH=3;BYDAY=2SU
END:DAYLIGHT
BEGIN:STANDARD
TZOFFSETFROM:-0500
TZOFFSETTO:-0600
TZNAME:CST
DTSTART:19701101T020000
RRULE:FREQ=YEARLY;BYMONTH=11;BYDAY=1SU
END:STANDARD
END:VTIMEZONE
BEGIN:VEVENT
SUMMARY:Intellectual Property, Introduction
LOCATION:TNH 2.123
DTSTART;TZID=America/Chicago:20260420T141500
DTEND;TZID=America/Chicago:20260420T152200
RRULE:FREQ=WEEKLY;BYDAY=MO;UNTIL=20260419T220000
UID:2e597112c4e836b30b8bfa6feb104176
DTSTAMP:20260419T082255
DESCRIPTION:Instructors: Robert G. Bone
END:VEVENT
BEGIN:VEVENT
SUMMARY:Intellectual Property, Introduction
LOCATION:TNH 2.124
DTSTART;TZID=America/Chicago:20260422T141500
DTEND;TZID=America/Chicago:20260422T152200
RRULE:FREQ=WEEKLY;BYDAY=WE,TH;UNTIL=20260419T220000
UID:184c1beeb0ba0c7a0c238f1c094b8526
DTSTAMP:20260419T082255
DESCRIPTION:Instructors: Robert G. Bone
END:VEVENT
END:VCALENDAR
