BEGIN:VCALENDAR
VERSION:2.0
PRODID:-//law.utexas.edu//Course Schedule//EN
CALSCALE:GREGORIAN
METHOD:PUBLISH
BEGIN:VTIMEZONE
TZID:America/Chicago
X-LIC-LOCATION:America/Chicago
BEGIN:DAYLIGHT
TZOFFSETFROM:-0600
TZOFFSETTO:-0500
TZNAME:CDT
DTSTART:19700308T020000
RRULE:FREQ=YEARLY;BYMONTH=3;BYDAY=2SU
END:DAYLIGHT
BEGIN:STANDARD
TZOFFSETFROM:-0500
TZOFFSETTO:-0600
TZNAME:CST
DTSTART:19701101T020000
RRULE:FREQ=YEARLY;BYMONTH=11;BYDAY=1SU
END:STANDARD
END:VTIMEZONE
BEGIN:VEVENT
SUMMARY:Business Associations (Enriched)
LOCATION:TNH 3.129
DTSTART;TZID=America/Chicago:20260420T075200
DTEND;TZID=America/Chicago:20260420T090000
RRULE:FREQ=WEEKLY;BYDAY=MO,TU,WE,TH;UNTIL=20260419T220000
UID:eae0520a4f1e37418e10776dc18361e6
DTSTAMP:20260419T171743
DESCRIPTION:Instructors: Henry T. C. Hu
END:VEVENT
END:VCALENDAR
