BEGIN:VCALENDAR
VERSION:2.0
PRODID:-//law.utexas.edu//Course Schedule//EN
CALSCALE:GREGORIAN
METHOD:PUBLISH
BEGIN:VTIMEZONE
TZID:America/Chicago
X-LIC-LOCATION:America/Chicago
BEGIN:DAYLIGHT
TZOFFSETFROM:-0600
TZOFFSETTO:-0500
TZNAME:CDT
DTSTART:19700308T020000
RRULE:FREQ=YEARLY;BYMONTH=3;BYDAY=2SU
END:DAYLIGHT
BEGIN:STANDARD
TZOFFSETFROM:-0500
TZOFFSETTO:-0600
TZNAME:CST
DTSTART:19701101T020000
RRULE:FREQ=YEARLY;BYMONTH=11;BYDAY=1SU
END:STANDARD
END:VTIMEZONE
BEGIN:VEVENT
SUMMARY:Persuasive Writing and Advocacy
LOCATION:TNH 3.126
DTSTART;TZID=America/Chicago:20190122T103000
DTEND;TZID=America/Chicago:20190122T113700
RRULE:FREQ=WEEKLY;BYDAY=TU;UNTIL=20190506T220000
UID:22a29a7d10b864514ca487509b587c04
DTSTAMP:20260419T164716
DESCRIPTION:Instructors: Lori R. Mason
END:VEVENT
BEGIN:VEVENT
SUMMARY:Persuasive Writing and Advocacy
LOCATION:TNH 3.126
DTSTART;TZID=America/Chicago:20190124T141500
DTEND;TZID=America/Chicago:20190124T152200
RRULE:FREQ=WEEKLY;BYDAY=TH;UNTIL=20190506T220000
UID:a45f9a1964a3d0caf3dc514d409cfd6a
DTSTAMP:20260419T164716
DESCRIPTION:Instructors: Lori R. Mason
END:VEVENT
END:VCALENDAR
