BEGIN:VCALENDAR
VERSION:2.0
PRODID:-//law.utexas.edu//Course Schedule//EN
CALSCALE:GREGORIAN
METHOD:PUBLISH
BEGIN:VTIMEZONE
TZID:America/Chicago
X-LIC-LOCATION:America/Chicago
BEGIN:DAYLIGHT
TZOFFSETFROM:-0600
TZOFFSETTO:-0500
TZNAME:CDT
DTSTART:19700308T020000
RRULE:FREQ=YEARLY;BYMONTH=3;BYDAY=2SU
END:DAYLIGHT
BEGIN:STANDARD
TZOFFSETFROM:-0500
TZOFFSETTO:-0600
TZNAME:CST
DTSTART:19701101T020000
RRULE:FREQ=YEARLY;BYMONTH=11;BYDAY=1SU
END:STANDARD
END:VTIMEZONE
BEGIN:VEVENT
SUMMARY:Electronic Discovery and Digital Evidence
LOCATION:JON 5.202
DTSTART;TZID=America/Chicago:20190128T154500
DTEND;TZID=America/Chicago:20190128T183000
RRULE:FREQ=WEEKLY;BYDAY=MO;UNTIL=20190506T220000
UID:2a5d83cbe00b6b1d63b4b89aba6a050e
DTSTAMP:20260419T174425
DESCRIPTION:Instructors: Andrew J Broadaway, Craig D. Ball
END:VEVENT
END:VCALENDAR
