BEGIN:VCALENDAR
VERSION:2.0
PRODID:-//law.utexas.edu//Course Schedule//EN
CALSCALE:GREGORIAN
METHOD:PUBLISH
BEGIN:VTIMEZONE
TZID:America/Chicago
X-LIC-LOCATION:America/Chicago
BEGIN:DAYLIGHT
TZOFFSETFROM:-0600
TZOFFSETTO:-0500
TZNAME:CDT
DTSTART:19700308T020000
RRULE:FREQ=YEARLY;BYMONTH=3;BYDAY=2SU
END:DAYLIGHT
BEGIN:STANDARD
TZOFFSETFROM:-0500
TZOFFSETTO:-0600
TZNAME:CST
DTSTART:19701101T020000
RRULE:FREQ=YEARLY;BYMONTH=11;BYDAY=1SU
END:STANDARD
END:VTIMEZONE
BEGIN:VEVENT
SUMMARY:U.S. Constitutional Law for Foreign Lawyers
LOCATION:TNH 3.142
DTSTART;TZID=America/Chicago:20190123T154500
DTEND;TZID=America/Chicago:20190123T173500
RRULE:FREQ=WEEKLY;BYDAY=WE;UNTIL=20190506T220000
UID:1e89be7dd9d9834383b4e1fe8fdfbef5
DTSTAMP:20260419T131220
DESCRIPTION:Instructors: H. W. Perry Jr
END:VEVENT
END:VCALENDAR
