BEGIN:VCALENDAR
VERSION:2.0
PRODID:-//law.utexas.edu//Course Schedule//EN
CALSCALE:GREGORIAN
METHOD:PUBLISH
BEGIN:VTIMEZONE
TZID:America/Chicago
X-LIC-LOCATION:America/Chicago
BEGIN:DAYLIGHT
TZOFFSETFROM:-0600
TZOFFSETTO:-0500
TZNAME:CDT
DTSTART:19700308T020000
RRULE:FREQ=YEARLY;BYMONTH=3;BYDAY=2SU
END:DAYLIGHT
BEGIN:STANDARD
TZOFFSETFROM:-0500
TZOFFSETTO:-0600
TZNAME:CST
DTSTART:19701101T020000
RRULE:FREQ=YEARLY;BYMONTH=11;BYDAY=1SU
END:STANDARD
END:VTIMEZONE
BEGIN:VEVENT
SUMMARY:Innovation Law and Policy in the Biopharmaceutical Industry
LOCATION:JON 6.257
DTSTART;TZID=America/Chicago:20190123T115000
DTEND;TZID=America/Chicago:20190123T130500
RRULE:FREQ=WEEKLY;BYDAY=MO,WE;UNTIL=20190506T220000
UID:ef850895643c942f0de705134a47027c
DTSTAMP:20260419T113301
DESCRIPTION:Instructors: Melissa F. Wasserman
END:VEVENT
END:VCALENDAR
