BEGIN:VCALENDAR
VERSION:2.0
PRODID:-//law.utexas.edu//Course Schedule//EN
CALSCALE:GREGORIAN
METHOD:PUBLISH
BEGIN:VTIMEZONE
TZID:America/Chicago
X-LIC-LOCATION:America/Chicago
BEGIN:DAYLIGHT
TZOFFSETFROM:-0600
TZOFFSETTO:-0500
TZNAME:CDT
DTSTART:19700308T020000
RRULE:FREQ=YEARLY;BYMONTH=3;BYDAY=2SU
END:DAYLIGHT
BEGIN:STANDARD
TZOFFSETFROM:-0500
TZOFFSETTO:-0600
TZNAME:CST
DTSTART:19701101T020000
RRULE:FREQ=YEARLY;BYMONTH=11;BYDAY=1SU
END:STANDARD
END:VTIMEZONE
BEGIN:VEVENT
SUMMARY:Clinic: Juvenile Justice
LOCATION:JON 6.202
DTSTART;TZID=America/Chicago:20190122T141500
DTEND;TZID=America/Chicago:20190122T153000
RRULE:FREQ=WEEKLY;BYDAY=TU,TH;UNTIL=20190506T220000
UID:0e75816fd3fc4053a3ad8f156532ba61
DTSTAMP:20260419T103453
DESCRIPTION:Instructors: Melanie Lister, Pamela J. Sigman, Ruben V. Castaneda, Sarah E. Casner, Scott Alan Constantine
END:VEVENT
END:VCALENDAR
