BEGIN:VCALENDAR
VERSION:2.0
PRODID:-//law.utexas.edu//Course Schedule//EN
CALSCALE:GREGORIAN
METHOD:PUBLISH
BEGIN:VTIMEZONE
TZID:America/Chicago
X-LIC-LOCATION:America/Chicago
BEGIN:DAYLIGHT
TZOFFSETFROM:-0600
TZOFFSETTO:-0500
TZNAME:CDT
DTSTART:19700308T020000
RRULE:FREQ=YEARLY;BYMONTH=3;BYDAY=2SU
END:DAYLIGHT
BEGIN:STANDARD
TZOFFSETFROM:-0500
TZOFFSETTO:-0600
TZNAME:CST
DTSTART:19701101T020000
RRULE:FREQ=YEARLY;BYMONTH=11;BYDAY=1SU
END:STANDARD
END:VTIMEZONE
BEGIN:VEVENT
SUMMARY:SMNR: Islamic Law and Political Violence
LOCATION:JON 5.257
DTSTART;TZID=America/Chicago:20190123T150000
DTEND;TZID=America/Chicago:20190123T180000
RRULE:FREQ=WEEKLY;BYDAY=WE;UNTIL=20190506T220000
UID:1e55344ac3e2a401875e917a51379c88
DTSTAMP:20260421T122853
DESCRIPTION:Instructors: Samy Ayoub
END:VEVENT
END:VCALENDAR
