BEGIN:VCALENDAR
VERSION:2.0
PRODID:-//law.utexas.edu//Course Schedule//EN
CALSCALE:GREGORIAN
METHOD:PUBLISH
BEGIN:VTIMEZONE
TZID:America/Chicago
X-LIC-LOCATION:America/Chicago
BEGIN:DAYLIGHT
TZOFFSETFROM:-0600
TZOFFSETTO:-0500
TZNAME:CDT
DTSTART:19700308T020000
RRULE:FREQ=YEARLY;BYMONTH=3;BYDAY=2SU
END:DAYLIGHT
BEGIN:STANDARD
TZOFFSETFROM:-0500
TZOFFSETTO:-0600
TZNAME:CST
DTSTART:19701101T020000
RRULE:FREQ=YEARLY;BYMONTH=11;BYDAY=1SU
END:STANDARD
END:VTIMEZONE
BEGIN:VEVENT
SUMMARY:SMNR: Refugee Law & Policy
LOCATION:TNH 3.115
DTSTART;TZID=America/Chicago:20190128T154500
DTEND;TZID=America/Chicago:20190128T173500
RRULE:FREQ=WEEKLY;BYDAY=MO;UNTIL=20190506T220000
UID:8f9c4eca99a0ba7cdcb0ababd2755f08
DTSTAMP:20260419T200711
DESCRIPTION:Instructors: Denise L. Gilman
END:VEVENT
END:VCALENDAR
