BEGIN:VCALENDAR
VERSION:2.0
PRODID:-//law.utexas.edu//Course Schedule//EN
CALSCALE:GREGORIAN
METHOD:PUBLISH
BEGIN:VTIMEZONE
TZID:America/Chicago
X-LIC-LOCATION:America/Chicago
BEGIN:DAYLIGHT
TZOFFSETFROM:-0600
TZOFFSETTO:-0500
TZNAME:CDT
DTSTART:19700308T020000
RRULE:FREQ=YEARLY;BYMONTH=3;BYDAY=2SU
END:DAYLIGHT
BEGIN:STANDARD
TZOFFSETFROM:-0500
TZOFFSETTO:-0600
TZNAME:CST
DTSTART:19701101T020000
RRULE:FREQ=YEARLY;BYMONTH=11;BYDAY=1SU
END:STANDARD
END:VTIMEZONE
BEGIN:VEVENT
SUMMARY:SMNR: Water for Everyone: Transformative Approaches to Mexico City's Water Crisis
LOCATION:JON 6.257
DTSTART;TZID=America/Chicago:20190123T154500
DTEND;TZID=America/Chicago:20190123T173500
RRULE:FREQ=WEEKLY;BYDAY=WE;UNTIL=20190506T220000
UID:128b6efdaef3692aa4a701aa8789fe3e
DTSTAMP:20260419T151844
DESCRIPTION:Instructors: Jane M. Cohen
END:VEVENT
END:VCALENDAR
