BEGIN:VCALENDAR
VERSION:2.0
PRODID:-//law.utexas.edu//Course Schedule//EN
CALSCALE:GREGORIAN
METHOD:PUBLISH
BEGIN:VTIMEZONE
TZID:America/Chicago
X-LIC-LOCATION:America/Chicago
BEGIN:DAYLIGHT
TZOFFSETFROM:-0600
TZOFFSETTO:-0500
TZNAME:CDT
DTSTART:19700308T020000
RRULE:FREQ=YEARLY;BYMONTH=3;BYDAY=2SU
END:DAYLIGHT
BEGIN:STANDARD
TZOFFSETFROM:-0500
TZOFFSETTO:-0600
TZNAME:CST
DTSTART:19701101T020000
RRULE:FREQ=YEARLY;BYMONTH=11;BYDAY=1SU
END:STANDARD
END:VTIMEZONE
BEGIN:VEVENT
SUMMARY:Torts
LOCATION:TNH 2.123
DTSTART;TZID=America/Chicago:20190902T115000
DTEND;TZID=America/Chicago:20190902T125700
RRULE:FREQ=WEEKLY;BYDAY=MO;UNTIL=20191209T220000
EXDATE;TZID=America/Chicago:20190902T115000
UID:53b4e0c3158965618ada0d2384d45657
DTSTAMP:20260419T102421
DESCRIPTION:Instructors: Elizabeth W. Sepper
END:VEVENT
BEGIN:VEVENT
SUMMARY:Torts
LOCATION:TNH 3.127
DTSTART;TZID=America/Chicago:20190829T091000
DTEND;TZID=America/Chicago:20190829T101700
RRULE:FREQ=WEEKLY;BYDAY=TU,TH;UNTIL=20191209T220000
EXDATE;TZID=America/Chicago:20191128T091000
UID:0a1134995e5a83c631dde9b7eb99c0de
DTSTAMP:20260419T102421
DESCRIPTION:Instructors: Elizabeth W. Sepper
END:VEVENT
END:VCALENDAR
