BEGIN:VCALENDAR
VERSION:2.0
PRODID:-//law.utexas.edu//Course Schedule//EN
CALSCALE:GREGORIAN
METHOD:PUBLISH
BEGIN:VTIMEZONE
TZID:America/Chicago
X-LIC-LOCATION:America/Chicago
BEGIN:DAYLIGHT
TZOFFSETFROM:-0600
TZOFFSETTO:-0500
TZNAME:CDT
DTSTART:19700308T020000
RRULE:FREQ=YEARLY;BYMONTH=3;BYDAY=2SU
END:DAYLIGHT
BEGIN:STANDARD
TZOFFSETFROM:-0500
TZOFFSETTO:-0600
TZNAME:CST
DTSTART:19701101T020000
RRULE:FREQ=YEARLY;BYMONTH=11;BYDAY=1SU
END:STANDARD
END:VTIMEZONE
BEGIN:VEVENT
SUMMARY:Advanced Legal Writing Workshop
LOCATION:TNH 2.139
DTSTART;TZID=America/Chicago:20190830T130000
DTEND;TZID=America/Chicago:20190830T203000
RRULE:FREQ=WEEKLY;BYDAY=FR;UNTIL=20191209T220000
EXDATE;TZID=America/Chicago:20191129T130000
UID:3d1b4094612e71b19a8b43c0c37af87f
DTSTAMP:20260419T095750
DESCRIPTION:Instructors: Wayne Schiess
END:VEVENT
BEGIN:VEVENT
SUMMARY:Advanced Legal Writing Workshop
LOCATION:TNH 2.139
DTSTART;TZID=America/Chicago:20190831T090000
DTEND;TZID=America/Chicago:20190831T160000
RRULE:FREQ=WEEKLY;BYDAY=SA;UNTIL=20191209T220000
UID:dcab4203f020bf287a12227dc3524aae
DTSTAMP:20260419T095750
DESCRIPTION:Instructors: Wayne Schiess
END:VEVENT
END:VCALENDAR
