BEGIN:VCALENDAR
VERSION:2.0
PRODID:-//law.utexas.edu//Course Schedule//EN
CALSCALE:GREGORIAN
METHOD:PUBLISH
BEGIN:VTIMEZONE
TZID:America/Chicago
X-LIC-LOCATION:America/Chicago
BEGIN:DAYLIGHT
TZOFFSETFROM:-0600
TZOFFSETTO:-0500
TZNAME:CDT
DTSTART:19700308T020000
RRULE:FREQ=YEARLY;BYMONTH=3;BYDAY=2SU
END:DAYLIGHT
BEGIN:STANDARD
TZOFFSETFROM:-0500
TZOFFSETTO:-0600
TZNAME:CST
DTSTART:19701101T020000
RRULE:FREQ=YEARLY;BYMONTH=11;BYDAY=1SU
END:STANDARD
END:VTIMEZONE
BEGIN:VEVENT
SUMMARY:Negotiation
LOCATION:TNH 3.129
DTSTART;TZID=America/Chicago:20190828T154500
DTEND;TZID=America/Chicago:20190828T183500
RRULE:FREQ=WEEKLY;BYDAY=WE;UNTIL=20191209T220000
EXDATE;TZID=America/Chicago:20191127T154500
UID:925ca601b5dfd9ae3a8a0f6ad5cec1c1
DTSTAMP:20260419T143711
DESCRIPTION:Instructors: Aaron C. Gregg, Kyle K Fox
END:VEVENT
END:VCALENDAR
