BEGIN:VCALENDAR
VERSION:2.0
PRODID:-//law.utexas.edu//Course Schedule//EN
CALSCALE:GREGORIAN
METHOD:PUBLISH
BEGIN:VTIMEZONE
TZID:America/Chicago
X-LIC-LOCATION:America/Chicago
BEGIN:DAYLIGHT
TZOFFSETFROM:-0600
TZOFFSETTO:-0500
TZNAME:CDT
DTSTART:19700308T020000
RRULE:FREQ=YEARLY;BYMONTH=3;BYDAY=2SU
END:DAYLIGHT
BEGIN:STANDARD
TZOFFSETFROM:-0500
TZOFFSETTO:-0600
TZNAME:CST
DTSTART:19701101T020000
RRULE:FREQ=YEARLY;BYMONTH=11;BYDAY=1SU
END:STANDARD
END:VTIMEZONE
BEGIN:VEVENT
SUMMARY:Intellectual Property, Introduction
LOCATION:TNH 2.138
DTSTART;TZID=America/Chicago:20190828T141500
DTEND;TZID=America/Chicago:20190828T152200
RRULE:FREQ=WEEKLY;BYDAY=MO,WE,TH;UNTIL=20191209T220000
EXDATE;TZID=America/Chicago:20190902T141500
EXDATE;TZID=America/Chicago:20191127T141500
EXDATE;TZID=America/Chicago:20191128T141500
UID:011193e2ea99215426ab1429b7695500
DTSTAMP:20260419T110919
DESCRIPTION:Instructors: Robert G. Bone
END:VEVENT
END:VCALENDAR
