BEGIN:VCALENDAR
VERSION:2.0
PRODID:-//law.utexas.edu//Course Schedule//EN
CALSCALE:GREGORIAN
METHOD:PUBLISH
BEGIN:VTIMEZONE
TZID:America/Chicago
X-LIC-LOCATION:America/Chicago
BEGIN:DAYLIGHT
TZOFFSETFROM:-0600
TZOFFSETTO:-0500
TZNAME:CDT
DTSTART:19700308T020000
RRULE:FREQ=YEARLY;BYMONTH=3;BYDAY=2SU
END:DAYLIGHT
BEGIN:STANDARD
TZOFFSETFROM:-0500
TZOFFSETTO:-0600
TZNAME:CST
DTSTART:19701101T020000
RRULE:FREQ=YEARLY;BYMONTH=11;BYDAY=1SU
END:STANDARD
END:VTIMEZONE
BEGIN:VEVENT
SUMMARY:Appellate Advocacy
LOCATION:TNH 3.127
DTSTART;TZID=America/Chicago:20190829T161500
DTEND;TZID=America/Chicago:20190829T190500
RRULE:FREQ=WEEKLY;BYDAY=TH;UNTIL=20191209T220000
EXDATE;TZID=America/Chicago:20191128T161500
UID:337f2769a4be0cde053d69a8d8287604
DTSTAMP:20260419T122703
DESCRIPTION:Instructors: Amy J. Schumacher, David J. Campbell, Robert M. Roach Jr.
END:VEVENT
END:VCALENDAR
