BEGIN:VCALENDAR
VERSION:2.0
PRODID:-//law.utexas.edu//Course Schedule//EN
CALSCALE:GREGORIAN
METHOD:PUBLISH
BEGIN:VTIMEZONE
TZID:America/Chicago
X-LIC-LOCATION:America/Chicago
BEGIN:DAYLIGHT
TZOFFSETFROM:-0600
TZOFFSETTO:-0500
TZNAME:CDT
DTSTART:19700308T020000
RRULE:FREQ=YEARLY;BYMONTH=3;BYDAY=2SU
END:DAYLIGHT
BEGIN:STANDARD
TZOFFSETFROM:-0500
TZOFFSETTO:-0600
TZNAME:CST
DTSTART:19701101T020000
RRULE:FREQ=YEARLY;BYMONTH=11;BYDAY=1SU
END:STANDARD
END:VTIMEZONE
BEGIN:VEVENT
SUMMARY:Transactions
LOCATION:JON 6.207/208
DTSTART;TZID=America/Chicago:20190828T090500
DTEND;TZID=America/Chicago:20190828T102000
RRULE:FREQ=WEEKLY;BYDAY=MO,WE;UNTIL=20191209T220000
EXDATE;TZID=America/Chicago:20190902T090500
EXDATE;TZID=America/Chicago:20191127T090500
UID:c1241cf8f2d9990e54d5890bc4d3b7ed
DTSTAMP:20260419T143712
DESCRIPTION:Instructors: Daniel W. Ortman
END:VEVENT
END:VCALENDAR
