BEGIN:VCALENDAR
VERSION:2.0
PRODID:-//law.utexas.edu//Course Schedule//EN
CALSCALE:GREGORIAN
METHOD:PUBLISH
BEGIN:VTIMEZONE
TZID:America/Chicago
X-LIC-LOCATION:America/Chicago
BEGIN:DAYLIGHT
TZOFFSETFROM:-0600
TZOFFSETTO:-0500
TZNAME:CDT
DTSTART:19700308T020000
RRULE:FREQ=YEARLY;BYMONTH=3;BYDAY=2SU
END:DAYLIGHT
BEGIN:STANDARD
TZOFFSETFROM:-0500
TZOFFSETTO:-0600
TZNAME:CST
DTSTART:19701101T020000
RRULE:FREQ=YEARLY;BYMONTH=11;BYDAY=1SU
END:STANDARD
END:VTIMEZONE
BEGIN:VEVENT
SUMMARY:SMNR: Human Rights and Global Inequality: Law, History, Politics
LOCATION:JON 5.208
DTSTART;TZID=America/Chicago:20190902T160000
DTEND;TZID=America/Chicago:20190902T180000
RRULE:FREQ=WEEKLY;BYDAY=MO;UNTIL=20191209T220000
EXDATE;TZID=America/Chicago:20190902T160000
UID:faa843a2a43d5f51c8b9859712feda35
DTSTAMP:20260419T160546
DESCRIPTION:Instructors: Edward F. Shore, Karen Engle
END:VEVENT
END:VCALENDAR
