BEGIN:VCALENDAR
VERSION:2.0
PRODID:-//law.utexas.edu//Course Schedule//EN
CALSCALE:GREGORIAN
METHOD:PUBLISH
BEGIN:VTIMEZONE
TZID:America/Chicago
X-LIC-LOCATION:America/Chicago
BEGIN:DAYLIGHT
TZOFFSETFROM:-0600
TZOFFSETTO:-0500
TZNAME:CDT
DTSTART:19700308T020000
RRULE:FREQ=YEARLY;BYMONTH=3;BYDAY=2SU
END:DAYLIGHT
BEGIN:STANDARD
TZOFFSETFROM:-0500
TZOFFSETTO:-0600
TZNAME:CST
DTSTART:19701101T020000
RRULE:FREQ=YEARLY;BYMONTH=11;BYDAY=1SU
END:STANDARD
END:VTIMEZONE
BEGIN:VEVENT
SUMMARY:Federal Criminal Law
LOCATION:TNH 2.123
DTSTART;TZID=America/Chicago:20200122T131500
DTEND;TZID=America/Chicago:20200122T140500
RRULE:FREQ=WEEKLY;BYDAY=MO,WE,TH;UNTIL=20200504T220000
EXDATE;TZID=America/Chicago:20200316T131500
EXDATE;TZID=America/Chicago:20200318T131500
EXDATE;TZID=America/Chicago:20200319T131500
UID:bfd3d4d76622e3d3382fca16e50c8999
DTSTAMP:20260419T172036
DESCRIPTION:Instructors: Susan R. Klein
END:VEVENT
END:VCALENDAR
