BEGIN:VCALENDAR
VERSION:2.0
PRODID:-//law.utexas.edu//Course Schedule//EN
CALSCALE:GREGORIAN
METHOD:PUBLISH
BEGIN:VTIMEZONE
TZID:America/Chicago
X-LIC-LOCATION:America/Chicago
BEGIN:DAYLIGHT
TZOFFSETFROM:-0600
TZOFFSETTO:-0500
TZNAME:CDT
DTSTART:19700308T020000
RRULE:FREQ=YEARLY;BYMONTH=3;BYDAY=2SU
END:DAYLIGHT
BEGIN:STANDARD
TZOFFSETFROM:-0500
TZOFFSETTO:-0600
TZNAME:CST
DTSTART:19701101T020000
RRULE:FREQ=YEARLY;BYMONTH=11;BYDAY=1SU
END:STANDARD
END:VTIMEZONE
BEGIN:VEVENT
SUMMARY:Torts
LOCATION:TNH 2.137
DTSTART;TZID=America/Chicago:20200121T091000
DTEND;TZID=America/Chicago:20200121T101700
RRULE:FREQ=WEEKLY;BYDAY=TU,FR;UNTIL=20200504T220000
EXDATE;TZID=America/Chicago:20200317T091000
UID:0c561941eb1ec047ce36886eeef355a8
DTSTAMP:20260419T143757
DESCRIPTION:Instructors: Melissa F. Wasserman
END:VEVENT
BEGIN:VEVENT
SUMMARY:Torts
LOCATION:TNH 2.137
DTSTART;TZID=America/Chicago:20200122T115000
DTEND;TZID=America/Chicago:20200122T125700
RRULE:FREQ=WEEKLY;BYDAY=WE;UNTIL=20200504T220000
EXDATE;TZID=America/Chicago:20200318T115000
UID:2ce271d3baf2bf764f347a3c32156e3a
DTSTAMP:20260419T143757
DESCRIPTION:Instructors: Melissa F. Wasserman
END:VEVENT
END:VCALENDAR
