BEGIN:VCALENDAR
VERSION:2.0
PRODID:-//law.utexas.edu//Course Schedule//EN
CALSCALE:GREGORIAN
METHOD:PUBLISH
BEGIN:VTIMEZONE
TZID:America/Chicago
X-LIC-LOCATION:America/Chicago
BEGIN:DAYLIGHT
TZOFFSETFROM:-0600
TZOFFSETTO:-0500
TZNAME:CDT
DTSTART:19700308T020000
RRULE:FREQ=YEARLY;BYMONTH=3;BYDAY=2SU
END:DAYLIGHT
BEGIN:STANDARD
TZOFFSETFROM:-0500
TZOFFSETTO:-0600
TZNAME:CST
DTSTART:19701101T020000
RRULE:FREQ=YEARLY;BYMONTH=11;BYDAY=1SU
END:STANDARD
END:VTIMEZONE
BEGIN:VEVENT
SUMMARY:Persuasive Writing and Advocacy
LOCATION:TNH 3.125
DTSTART;TZID=America/Chicago:20200121T130000
DTEND;TZID=America/Chicago:20200121T140700
RRULE:FREQ=WEEKLY;BYDAY=TU,TH;UNTIL=20200504T220000
EXDATE;TZID=America/Chicago:20200317T130000
EXDATE;TZID=America/Chicago:20200319T130000
UID:b1fa79647f87565b147b05574b7afc38
DTSTAMP:20260419T093612
DESCRIPTION:Instructors: Lori R. Mason
END:VEVENT
END:VCALENDAR
