BEGIN:VCALENDAR
VERSION:2.0
PRODID:-//law.utexas.edu//Course Schedule//EN
CALSCALE:GREGORIAN
METHOD:PUBLISH
BEGIN:VTIMEZONE
TZID:America/Chicago
X-LIC-LOCATION:America/Chicago
BEGIN:DAYLIGHT
TZOFFSETFROM:-0600
TZOFFSETTO:-0500
TZNAME:CDT
DTSTART:19700308T020000
RRULE:FREQ=YEARLY;BYMONTH=3;BYDAY=2SU
END:DAYLIGHT
BEGIN:STANDARD
TZOFFSETFROM:-0500
TZOFFSETTO:-0600
TZNAME:CST
DTSTART:19701101T020000
RRULE:FREQ=YEARLY;BYMONTH=11;BYDAY=1SU
END:STANDARD
END:VTIMEZONE
BEGIN:VEVENT
SUMMARY:Natural Resources Law
LOCATION:JON 5.206/7
DTSTART;TZID=America/Chicago:20200121T091000
DTEND;TZID=America/Chicago:20200121T100000
RRULE:FREQ=WEEKLY;BYDAY=TU,WE,TH;UNTIL=20200504T220000
EXDATE;TZID=America/Chicago:20200317T091000
EXDATE;TZID=America/Chicago:20200318T091000
EXDATE;TZID=America/Chicago:20200319T091000
UID:019125c3f2f67779b099ef19e775e625
DTSTAMP:20260424T130305
DESCRIPTION:Instructors: Melinda E. Taylor
END:VEVENT
END:VCALENDAR
