BEGIN:VCALENDAR
VERSION:2.0
PRODID:-//law.utexas.edu//Course Schedule//EN
CALSCALE:GREGORIAN
METHOD:PUBLISH
BEGIN:VTIMEZONE
TZID:America/Chicago
X-LIC-LOCATION:America/Chicago
BEGIN:DAYLIGHT
TZOFFSETFROM:-0600
TZOFFSETTO:-0500
TZNAME:CDT
DTSTART:19700308T020000
RRULE:FREQ=YEARLY;BYMONTH=3;BYDAY=2SU
END:DAYLIGHT
BEGIN:STANDARD
TZOFFSETFROM:-0500
TZOFFSETTO:-0600
TZNAME:CST
DTSTART:19701101T020000
RRULE:FREQ=YEARLY;BYMONTH=11;BYDAY=1SU
END:STANDARD
END:VTIMEZONE
BEGIN:VEVENT
SUMMARY:Coastal Watersheds
LOCATION:JON 5.202/203
DTSTART;TZID=America/Chicago:20200121T103000
DTEND;TZID=America/Chicago:20200121T114500
RRULE:FREQ=WEEKLY;BYDAY=TU,TH;UNTIL=20200504T220000
EXDATE;TZID=America/Chicago:20200317T103000
EXDATE;TZID=America/Chicago:20200319T103000
UID:78929120c3e84ad3bdb6d7353b062dd8
DTSTAMP:20260424T130309
DESCRIPTION:Instructors: James W McClelland, Melinda E. Taylor
END:VEVENT
END:VCALENDAR
