BEGIN:VCALENDAR
VERSION:2.0
PRODID:-//law.utexas.edu//Course Schedule//EN
CALSCALE:GREGORIAN
METHOD:PUBLISH
BEGIN:VTIMEZONE
TZID:America/Chicago
X-LIC-LOCATION:America/Chicago
BEGIN:DAYLIGHT
TZOFFSETFROM:-0600
TZOFFSETTO:-0500
TZNAME:CDT
DTSTART:19700308T020000
RRULE:FREQ=YEARLY;BYMONTH=3;BYDAY=2SU
END:DAYLIGHT
BEGIN:STANDARD
TZOFFSETFROM:-0500
TZOFFSETTO:-0600
TZNAME:CST
DTSTART:19701101T020000
RRULE:FREQ=YEARLY;BYMONTH=11;BYDAY=1SU
END:STANDARD
END:VTIMEZONE
BEGIN:VEVENT
SUMMARY:Internship: Government
LOCATION:JON 6.257
DTSTART;TZID=America/Chicago:20200121T141500
DTEND;TZID=America/Chicago:20200121T153000
RRULE:FREQ=WEEKLY;BYDAY=TU;UNTIL=20200504T220000
EXDATE;TZID=America/Chicago:20200317T141500
UID:8938245faaf068b2423b582020dc1f04
DTSTAMP:20260419T102348
DESCRIPTION:Instructors: Helen Anne Gaebler
END:VEVENT
END:VCALENDAR
