BEGIN:VCALENDAR
VERSION:2.0
PRODID:-//law.utexas.edu//Course Schedule//EN
CALSCALE:GREGORIAN
METHOD:PUBLISH
BEGIN:VTIMEZONE
TZID:America/Chicago
X-LIC-LOCATION:America/Chicago
BEGIN:DAYLIGHT
TZOFFSETFROM:-0600
TZOFFSETTO:-0500
TZNAME:CDT
DTSTART:19700308T020000
RRULE:FREQ=YEARLY;BYMONTH=3;BYDAY=2SU
END:DAYLIGHT
BEGIN:STANDARD
TZOFFSETFROM:-0500
TZOFFSETTO:-0600
TZNAME:CST
DTSTART:19701101T020000
RRULE:FREQ=YEARLY;BYMONTH=11;BYDAY=1SU
END:STANDARD
END:VTIMEZONE
BEGIN:VEVENT
SUMMARY:SMNR: Business Law Workshop
LOCATION:JON 5.206/7
DTSTART;TZID=America/Chicago:20200127T154500
DTEND;TZID=America/Chicago:20200127T173500
RRULE:FREQ=WEEKLY;BYDAY=MO;UNTIL=20200504T220000
EXDATE;TZID=America/Chicago:20200316T154500
UID:a52858b8a10e566eea645c1d6b35056b
DTSTAMP:20260419T131208
DESCRIPTION:Instructors: James C. Spindler, Jens Christian Dammann, Mira Ganor
END:VEVENT
END:VCALENDAR
