BEGIN:VCALENDAR
VERSION:2.0
PRODID:-//law.utexas.edu//Course Schedule//EN
CALSCALE:GREGORIAN
METHOD:PUBLISH
BEGIN:VTIMEZONE
TZID:America/Chicago
X-LIC-LOCATION:America/Chicago
BEGIN:DAYLIGHT
TZOFFSETFROM:-0600
TZOFFSETTO:-0500
TZNAME:CDT
DTSTART:19700308T020000
RRULE:FREQ=YEARLY;BYMONTH=3;BYDAY=2SU
END:DAYLIGHT
BEGIN:STANDARD
TZOFFSETFROM:-0500
TZOFFSETTO:-0600
TZNAME:CST
DTSTART:19701101T020000
RRULE:FREQ=YEARLY;BYMONTH=11;BYDAY=1SU
END:STANDARD
END:VTIMEZONE
BEGIN:VEVENT
SUMMARY:SMNR: Corporate Finance and Governance
LOCATION:TNH 3.129
DTSTART;TZID=America/Chicago:20200121T154500
DTEND;TZID=America/Chicago:20200121T173500
RRULE:FREQ=WEEKLY;BYDAY=TU;UNTIL=20200504T220000
EXDATE;TZID=America/Chicago:20200317T154500
UID:5d151d53b1b5852e631d49296428623f
DTSTAMP:20260419T152725
DESCRIPTION:Instructors: Henry T. C. Hu
END:VEVENT
END:VCALENDAR
