BEGIN:VCALENDAR
VERSION:2.0
PRODID:-//law.utexas.edu//Course Schedule//EN
CALSCALE:GREGORIAN
METHOD:PUBLISH
BEGIN:VTIMEZONE
TZID:America/Chicago
X-LIC-LOCATION:America/Chicago
BEGIN:DAYLIGHT
TZOFFSETFROM:-0600
TZOFFSETTO:-0500
TZNAME:CDT
DTSTART:19700308T020000
RRULE:FREQ=YEARLY;BYMONTH=3;BYDAY=2SU
END:DAYLIGHT
BEGIN:STANDARD
TZOFFSETFROM:-0500
TZOFFSETTO:-0600
TZNAME:CST
DTSTART:19701101T020000
RRULE:FREQ=YEARLY;BYMONTH=11;BYDAY=1SU
END:STANDARD
END:VTIMEZONE
BEGIN:VEVENT
SUMMARY:Contracts
LOCATION:ONLINE
DTSTART;TZID=America/Chicago:20200826T143000
DTEND;TZID=America/Chicago:20200826T152000
RRULE:FREQ=WEEKLY;BYDAY=MO,TU,WE,TH;UNTIL=20201207T220000
EXDATE;TZID=America/Chicago:20200907T143000
EXDATE;TZID=America/Chicago:20201125T143000
EXDATE;TZID=America/Chicago:20201126T143000
UID:923d21436eb4210f9deb0c4464c951ac
DTSTAMP:20260420T112749
DESCRIPTION:Instructors: David S. Sokolow
END:VEVENT
END:VCALENDAR
