BEGIN:VCALENDAR
VERSION:2.0
PRODID:-//law.utexas.edu//Course Schedule//EN
CALSCALE:GREGORIAN
METHOD:PUBLISH
BEGIN:VTIMEZONE
TZID:America/Chicago
X-LIC-LOCATION:America/Chicago
BEGIN:DAYLIGHT
TZOFFSETFROM:-0600
TZOFFSETTO:-0500
TZNAME:CDT
DTSTART:19700308T020000
RRULE:FREQ=YEARLY;BYMONTH=3;BYDAY=2SU
END:DAYLIGHT
BEGIN:STANDARD
TZOFFSETFROM:-0500
TZOFFSETTO:-0600
TZNAME:CST
DTSTART:19701101T020000
RRULE:FREQ=YEARLY;BYMONTH=11;BYDAY=1SU
END:STANDARD
END:VTIMEZONE
BEGIN:VEVENT
SUMMARY:Torts
LOCATION:ONLINE
DTSTART;TZID=America/Chicago:20200826T113000
DTEND;TZID=America/Chicago:20200826T122000
RRULE:FREQ=WEEKLY;BYDAY=TU,WE,TH,FR;UNTIL=20201207T220000
EXDATE;TZID=America/Chicago:20201125T113000
EXDATE;TZID=America/Chicago:20201126T113000
EXDATE;TZID=America/Chicago:20201127T113000
UID:0e3b38f03733d260cce3aa6bb65c0825
DTSTAMP:20260419T135713
DESCRIPTION:Instructors: Melissa F. Wasserman
END:VEVENT
END:VCALENDAR
