BEGIN:VCALENDAR
VERSION:2.0
PRODID:-//law.utexas.edu//Course Schedule//EN
CALSCALE:GREGORIAN
METHOD:PUBLISH
BEGIN:VTIMEZONE
TZID:America/Chicago
X-LIC-LOCATION:America/Chicago
BEGIN:DAYLIGHT
TZOFFSETFROM:-0600
TZOFFSETTO:-0500
TZNAME:CDT
DTSTART:19700308T020000
RRULE:FREQ=YEARLY;BYMONTH=3;BYDAY=2SU
END:DAYLIGHT
BEGIN:STANDARD
TZOFFSETFROM:-0500
TZOFFSETTO:-0600
TZNAME:CST
DTSTART:19701101T020000
RRULE:FREQ=YEARLY;BYMONTH=11;BYDAY=1SU
END:STANDARD
END:VTIMEZONE
BEGIN:VEVENT
SUMMARY:Legal Research, Advanced
LOCATION:TNH 2.138
DTSTART;TZID=America/Chicago:20200828T103500
DTEND;TZID=America/Chicago:20200828T122500
RRULE:FREQ=WEEKLY;BYDAY=FR;UNTIL=20201207T220000
EXDATE;TZID=America/Chicago:20201127T103500
UID:e8e5faf4c9e94c74ea2c53fce218c68d
DTSTAMP:20260419T215552
DESCRIPTION:Instructors: Molly Brownfield, Matthew R. Steinke
END:VEVENT
END:VCALENDAR
