BEGIN:VCALENDAR
VERSION:2.0
PRODID:-//law.utexas.edu//Course Schedule//EN
CALSCALE:GREGORIAN
METHOD:PUBLISH
BEGIN:VTIMEZONE
TZID:America/Chicago
X-LIC-LOCATION:America/Chicago
BEGIN:DAYLIGHT
TZOFFSETFROM:-0600
TZOFFSETTO:-0500
TZNAME:CDT
DTSTART:19700308T020000
RRULE:FREQ=YEARLY;BYMONTH=3;BYDAY=2SU
END:DAYLIGHT
BEGIN:STANDARD
TZOFFSETFROM:-0500
TZOFFSETTO:-0600
TZNAME:CST
DTSTART:19701101T020000
RRULE:FREQ=YEARLY;BYMONTH=11;BYDAY=1SU
END:STANDARD
END:VTIMEZONE
BEGIN:VEVENT
SUMMARY:Legal Analysis and Communication
LOCATION:TNH 2.139
DTSTART;TZID=America/Chicago:20200831T103000
DTEND;TZID=America/Chicago:20200831T113700
RRULE:FREQ=WEEKLY;BYDAY=MO;UNTIL=20201207T220000
EXDATE;TZID=America/Chicago:20200907T103000
UID:99feafb355dcdefa796b3e2ace5fcde3
DTSTAMP:20260419T172035
DESCRIPTION:Instructors: Sean J. Petrie
END:VEVENT
BEGIN:VEVENT
SUMMARY:Legal Analysis and Communication
LOCATION:ONLINE
DTSTART;TZID=America/Chicago:20200826T131000
DTEND;TZID=America/Chicago:20200826T141700
RRULE:FREQ=WEEKLY;BYDAY=WE;UNTIL=20201207T220000
EXDATE;TZID=America/Chicago:20201125T131000
UID:957e914307217768d6562981a478c4b6
DTSTAMP:20260419T172035
DESCRIPTION:Instructors: Sean J. Petrie
END:VEVENT
END:VCALENDAR
