BEGIN:VCALENDAR
VERSION:2.0
PRODID:-//law.utexas.edu//Course Schedule//EN
CALSCALE:GREGORIAN
METHOD:PUBLISH
BEGIN:VTIMEZONE
TZID:America/Chicago
X-LIC-LOCATION:America/Chicago
BEGIN:DAYLIGHT
TZOFFSETFROM:-0600
TZOFFSETTO:-0500
TZNAME:CDT
DTSTART:19700308T020000
RRULE:FREQ=YEARLY;BYMONTH=3;BYDAY=2SU
END:DAYLIGHT
BEGIN:STANDARD
TZOFFSETFROM:-0500
TZOFFSETTO:-0600
TZNAME:CST
DTSTART:19701101T020000
RRULE:FREQ=YEARLY;BYMONTH=11;BYDAY=1SU
END:STANDARD
END:VTIMEZONE
BEGIN:VEVENT
SUMMARY:Legal Analysis and Communication
LOCATION:ONLINE
DTSTART;TZID=America/Chicago:20200826T103000
DTEND;TZID=America/Chicago:20200826T113700
RRULE:FREQ=WEEKLY;BYDAY=WE;UNTIL=20201207T220000
EXDATE;TZID=America/Chicago:20201125T103000
UID:b6dca48c12bb7e01eee14b87fbaaf391
DTSTAMP:20260419T103440
DESCRIPTION:Instructors: Lori R. Mason
END:VEVENT
BEGIN:VEVENT
SUMMARY:Legal Analysis and Communication
LOCATION:TNH 2.124
DTSTART;TZID=America/Chicago:20200828T113000
DTEND;TZID=America/Chicago:20200828T123700
RRULE:FREQ=WEEKLY;BYDAY=FR;UNTIL=20201207T220000
EXDATE;TZID=America/Chicago:20201127T113000
UID:7f717d69eca6be6212e016bb06021af4
DTSTAMP:20260419T103440
DESCRIPTION:Instructors: Lori R. Mason
END:VEVENT
END:VCALENDAR
