BEGIN:VCALENDAR
VERSION:2.0
PRODID:-//law.utexas.edu//Course Schedule//EN
CALSCALE:GREGORIAN
METHOD:PUBLISH
BEGIN:VTIMEZONE
TZID:America/Chicago
X-LIC-LOCATION:America/Chicago
BEGIN:DAYLIGHT
TZOFFSETFROM:-0600
TZOFFSETTO:-0500
TZNAME:CDT
DTSTART:19700308T020000
RRULE:FREQ=YEARLY;BYMONTH=3;BYDAY=2SU
END:DAYLIGHT
BEGIN:STANDARD
TZOFFSETFROM:-0500
TZOFFSETTO:-0600
TZNAME:CST
DTSTART:19701101T020000
RRULE:FREQ=YEARLY;BYMONTH=11;BYDAY=1SU
END:STANDARD
END:VTIMEZONE
BEGIN:VEVENT
SUMMARY:Constitutional Law I
LOCATION:ONLINE
DTSTART;TZID=America/Chicago:20200826T154500
DTEND;TZID=America/Chicago:20200826T163500
RRULE:FREQ=WEEKLY;BYDAY=MO,TU,WE,TH;UNTIL=20201207T220000
EXDATE;TZID=America/Chicago:20200907T154500
EXDATE;TZID=America/Chicago:20201125T154500
EXDATE;TZID=America/Chicago:20201126T154500
UID:8b725a1ad9443c2ad508aa688510e7ad
DTSTAMP:20260419T152830
DESCRIPTION:Instructors: H. W. Perry Jr
END:VEVENT
END:VCALENDAR
