BEGIN:VCALENDAR
VERSION:2.0
PRODID:-//law.utexas.edu//Course Schedule//EN
CALSCALE:GREGORIAN
METHOD:PUBLISH
BEGIN:VTIMEZONE
TZID:America/Chicago
X-LIC-LOCATION:America/Chicago
BEGIN:DAYLIGHT
TZOFFSETFROM:-0600
TZOFFSETTO:-0500
TZNAME:CDT
DTSTART:19700308T020000
RRULE:FREQ=YEARLY;BYMONTH=3;BYDAY=2SU
END:DAYLIGHT
BEGIN:STANDARD
TZOFFSETFROM:-0500
TZOFFSETTO:-0600
TZNAME:CST
DTSTART:19701101T020000
RRULE:FREQ=YEARLY;BYMONTH=11;BYDAY=1SU
END:STANDARD
END:VTIMEZONE
BEGIN:VEVENT
SUMMARY:Reading Group: Law and Social Media
LOCATION:ONLINE
DTSTART;TZID=America/Chicago:20200831T161500
DTEND;TZID=America/Chicago:20200831T180500
RRULE:FREQ=WEEKLY;BYDAY=MO;UNTIL=20201207T220000
EXDATE;TZID=America/Chicago:20200907T161500
UID:581c1c3b86b5a5e9ab1a390f75863f59
DTSTAMP:20260419T110949
DESCRIPTION:Instructors: John S. Dzienkowski
END:VEVENT
END:VCALENDAR
