BEGIN:VCALENDAR
VERSION:2.0
PRODID:-//law.utexas.edu//Course Schedule//EN
CALSCALE:GREGORIAN
METHOD:PUBLISH
BEGIN:VTIMEZONE
TZID:America/Chicago
X-LIC-LOCATION:America/Chicago
BEGIN:DAYLIGHT
TZOFFSETFROM:-0600
TZOFFSETTO:-0500
TZNAME:CDT
DTSTART:19700308T020000
RRULE:FREQ=YEARLY;BYMONTH=3;BYDAY=2SU
END:DAYLIGHT
BEGIN:STANDARD
TZOFFSETFROM:-0500
TZOFFSETTO:-0600
TZNAME:CST
DTSTART:19701101T020000
RRULE:FREQ=YEARLY;BYMONTH=11;BYDAY=1SU
END:STANDARD
END:VTIMEZONE
BEGIN:VEVENT
SUMMARY:International Commercial Arbitration
LOCATION:TNH 3.140
DTSTART;TZID=America/Chicago:20200831T161500
DTEND;TZID=America/Chicago:20200831T192500
RRULE:FREQ=WEEKLY;BYDAY=MO;UNTIL=20201207T220000
EXDATE;TZID=America/Chicago:20200907T161500
UID:3815117eb94c32876d5d553c17b12e40
DTSTAMP:20260419T220538
DESCRIPTION:Instructors: James Lloyd Loftis, Richard D. Deutsch, Timothy J. Tyler
END:VEVENT
END:VCALENDAR
