BEGIN:VCALENDAR
VERSION:2.0
PRODID:-//law.utexas.edu//Course Schedule//EN
CALSCALE:GREGORIAN
METHOD:PUBLISH
BEGIN:VTIMEZONE
TZID:America/Chicago
X-LIC-LOCATION:America/Chicago
BEGIN:DAYLIGHT
TZOFFSETFROM:-0600
TZOFFSETTO:-0500
TZNAME:CDT
DTSTART:19700308T020000
RRULE:FREQ=YEARLY;BYMONTH=3;BYDAY=2SU
END:DAYLIGHT
BEGIN:STANDARD
TZOFFSETFROM:-0500
TZOFFSETTO:-0600
TZNAME:CST
DTSTART:19701101T020000
RRULE:FREQ=YEARLY;BYMONTH=11;BYDAY=1SU
END:STANDARD
END:VTIMEZONE
BEGIN:VEVENT
SUMMARY:Texas Legislature: Process and Procedure
LOCATION:ONLINE
DTSTART;TZID=America/Chicago:20200826T161500
DTEND;TZID=America/Chicago:20200826T180500
RRULE:FREQ=WEEKLY;BYDAY=WE;UNTIL=20201207T220000
EXDATE;TZID=America/Chicago:20201125T161500
UID:e875fcdec625ae5fa166dfea60b0e3db
DTSTAMP:20260419T172035
DESCRIPTION:Instructors: James E. Brown
END:VEVENT
END:VCALENDAR
