BEGIN:VCALENDAR
VERSION:2.0
PRODID:-//law.utexas.edu//Course Schedule//EN
CALSCALE:GREGORIAN
METHOD:PUBLISH
BEGIN:VTIMEZONE
TZID:America/Chicago
X-LIC-LOCATION:America/Chicago
BEGIN:DAYLIGHT
TZOFFSETFROM:-0600
TZOFFSETTO:-0500
TZNAME:CDT
DTSTART:19700308T020000
RRULE:FREQ=YEARLY;BYMONTH=3;BYDAY=2SU
END:DAYLIGHT
BEGIN:STANDARD
TZOFFSETFROM:-0500
TZOFFSETTO:-0600
TZNAME:CST
DTSTART:19701101T020000
RRULE:FREQ=YEARLY;BYMONTH=11;BYDAY=1SU
END:STANDARD
END:VTIMEZONE
BEGIN:VEVENT
SUMMARY:Administrative Law, Texas
LOCATION:ONLINE
DTSTART;TZID=America/Chicago:20200826T161500
DTEND;TZID=America/Chicago:20200826T173000
RRULE:FREQ=WEEKLY;BYDAY=MO,WE;UNTIL=20201207T220000
EXDATE;TZID=America/Chicago:20200907T161500
EXDATE;TZID=America/Chicago:20201125T161500
UID:a68b8ee9ee41c60f13baefe71f80f0cc
DTSTAMP:20260419T162324
DESCRIPTION:Instructors: Craig R. Bennett
END:VEVENT
END:VCALENDAR
