BEGIN:VCALENDAR
VERSION:2.0
PRODID:-//law.utexas.edu//Course Schedule//EN
CALSCALE:GREGORIAN
METHOD:PUBLISH
BEGIN:VTIMEZONE
TZID:America/Chicago
X-LIC-LOCATION:America/Chicago
BEGIN:DAYLIGHT
TZOFFSETFROM:-0600
TZOFFSETTO:-0500
TZNAME:CDT
DTSTART:19700308T020000
RRULE:FREQ=YEARLY;BYMONTH=3;BYDAY=2SU
END:DAYLIGHT
BEGIN:STANDARD
TZOFFSETFROM:-0500
TZOFFSETTO:-0600
TZNAME:CST
DTSTART:19701101T020000
RRULE:FREQ=YEARLY;BYMONTH=11;BYDAY=1SU
END:STANDARD
END:VTIMEZONE
BEGIN:VEVENT
SUMMARY:U.S. Constitutional Law for Foreign Lawyers
LOCATION:ONLINE
DTSTART;TZID=America/Chicago:20200827T182500
DTEND;TZID=America/Chicago:20200827T191500
RRULE:FREQ=WEEKLY;BYDAY=TU,TH;UNTIL=20201207T220000
EXDATE;TZID=America/Chicago:20201126T182500
UID:3cfb3b2863a5d34796d0559c7615af13
DTSTAMP:20260419T171729
DESCRIPTION:Instructors: H. W. Perry Jr
END:VEVENT
END:VCALENDAR
