BEGIN:VCALENDAR
VERSION:2.0
PRODID:-//law.utexas.edu//Course Schedule//EN
CALSCALE:GREGORIAN
METHOD:PUBLISH
BEGIN:VTIMEZONE
TZID:America/Chicago
X-LIC-LOCATION:America/Chicago
BEGIN:DAYLIGHT
TZOFFSETFROM:-0600
TZOFFSETTO:-0500
TZNAME:CDT
DTSTART:19700308T020000
RRULE:FREQ=YEARLY;BYMONTH=3;BYDAY=2SU
END:DAYLIGHT
BEGIN:STANDARD
TZOFFSETFROM:-0500
TZOFFSETTO:-0600
TZNAME:CST
DTSTART:19701101T020000
RRULE:FREQ=YEARLY;BYMONTH=11;BYDAY=1SU
END:STANDARD
END:VTIMEZONE
BEGIN:VEVENT
SUMMARY:Const Law II: Amendments 1 & 2
LOCATION:ONLINE
DTSTART;TZID=America/Chicago:20200826T133000
DTEND;TZID=America/Chicago:20200826T142000
RRULE:FREQ=WEEKLY;BYDAY=MO,TU,WE,TH;UNTIL=20201207T220000
EXDATE;TZID=America/Chicago:20200907T133000
EXDATE;TZID=America/Chicago:20201125T133000
EXDATE;TZID=America/Chicago:20201126T133000
UID:bfad12fdfcf3451a898a4bf2a38a99b2
DTSTAMP:20260419T104312
DESCRIPTION:Instructors: Lucas A. Powe Jr.
END:VEVENT
END:VCALENDAR
