BEGIN:VCALENDAR
VERSION:2.0
PRODID:-//law.utexas.edu//Course Schedule//EN
CALSCALE:GREGORIAN
METHOD:PUBLISH
BEGIN:VTIMEZONE
TZID:America/Chicago
X-LIC-LOCATION:America/Chicago
BEGIN:DAYLIGHT
TZOFFSETFROM:-0600
TZOFFSETTO:-0500
TZNAME:CDT
DTSTART:19700308T020000
RRULE:FREQ=YEARLY;BYMONTH=3;BYDAY=2SU
END:DAYLIGHT
BEGIN:STANDARD
TZOFFSETFROM:-0500
TZOFFSETTO:-0600
TZNAME:CST
DTSTART:19701101T020000
RRULE:FREQ=YEARLY;BYMONTH=11;BYDAY=1SU
END:STANDARD
END:VTIMEZONE
BEGIN:VEVENT
SUMMARY:Evidence
LOCATION:ONLINE
DTSTART;TZID=America/Chicago:20200827T103500
DTEND;TZID=America/Chicago:20200827T122500
RRULE:FREQ=WEEKLY;BYDAY=TH,FR;UNTIL=20201207T220000
EXDATE;TZID=America/Chicago:20201126T103500
EXDATE;TZID=America/Chicago:20201127T103500
UID:010d2dcb576d941828b39d8aea6b333a
DTSTAMP:20260419T153040
DESCRIPTION:Instructors: Graham B. Strong
END:VEVENT
END:VCALENDAR
