BEGIN:VCALENDAR
VERSION:2.0
PRODID:-//law.utexas.edu//Course Schedule//EN
CALSCALE:GREGORIAN
METHOD:PUBLISH
BEGIN:VTIMEZONE
TZID:America/Chicago
X-LIC-LOCATION:America/Chicago
BEGIN:DAYLIGHT
TZOFFSETFROM:-0600
TZOFFSETTO:-0500
TZNAME:CDT
DTSTART:19700308T020000
RRULE:FREQ=YEARLY;BYMONTH=3;BYDAY=2SU
END:DAYLIGHT
BEGIN:STANDARD
TZOFFSETFROM:-0500
TZOFFSETTO:-0600
TZNAME:CST
DTSTART:19701101T020000
RRULE:FREQ=YEARLY;BYMONTH=11;BYDAY=1SU
END:STANDARD
END:VTIMEZONE
BEGIN:VEVENT
SUMMARY:Oil and Gas
LOCATION:TNH 2.123
DTSTART;TZID=America/Chicago:20200826T144000
DTEND;TZID=America/Chicago:20200826T155500
RRULE:FREQ=WEEKLY;BYDAY=TU,WE;UNTIL=20201207T220000
EXDATE;TZID=America/Chicago:20201125T144000
UID:f8c9fa8f12c12747f160857e1537369b
DTSTAMP:20260419T083021
DESCRIPTION:Instructors: John Beckworth
END:VEVENT
END:VCALENDAR
