BEGIN:VCALENDAR
VERSION:2.0
PRODID:-//law.utexas.edu//Course Schedule//EN
CALSCALE:GREGORIAN
METHOD:PUBLISH
BEGIN:VTIMEZONE
TZID:America/Chicago
X-LIC-LOCATION:America/Chicago
BEGIN:DAYLIGHT
TZOFFSETFROM:-0600
TZOFFSETTO:-0500
TZNAME:CDT
DTSTART:19700308T020000
RRULE:FREQ=YEARLY;BYMONTH=3;BYDAY=2SU
END:DAYLIGHT
BEGIN:STANDARD
TZOFFSETFROM:-0500
TZOFFSETTO:-0600
TZNAME:CST
DTSTART:19701101T020000
RRULE:FREQ=YEARLY;BYMONTH=11;BYDAY=1SU
END:STANDARD
END:VTIMEZONE
BEGIN:VEVENT
SUMMARY:Clinic: Entrepreneurship/Community Development
LOCATION:CCJ 2.306
DTSTART;TZID=America/Chicago:20200831T144000
DTEND;TZID=America/Chicago:20200831T164000
RRULE:FREQ=WEEKLY;BYDAY=MO;UNTIL=20201207T220000
EXDATE;TZID=America/Chicago:20200907T144000
UID:48543d8f668460043a98caeae40480b2
DTSTAMP:20260421T185711
DESCRIPTION:Instructors: Frances Leos Martinez, Heather K. Way
END:VEVENT
BEGIN:VEVENT
SUMMARY:Clinic: Entrepreneurship/Community Development
LOCATION:TNH 3.126
DTSTART;TZID=America/Chicago:20200827T090000
DTEND;TZID=America/Chicago:20200827T095000
RRULE:FREQ=WEEKLY;BYDAY=TH;UNTIL=20201207T220000
EXDATE;TZID=America/Chicago:20201126T090000
UID:ce6509d5bce48b15ed13a3c000f30975
DTSTAMP:20260421T185711
DESCRIPTION:Instructors: Frances Leos Martinez, Heather K. Way
END:VEVENT
END:VCALENDAR
