BEGIN:VCALENDAR
VERSION:2.0
PRODID:-//law.utexas.edu//Course Schedule//EN
CALSCALE:GREGORIAN
METHOD:PUBLISH
BEGIN:VTIMEZONE
TZID:America/Chicago
X-LIC-LOCATION:America/Chicago
BEGIN:DAYLIGHT
TZOFFSETFROM:-0600
TZOFFSETTO:-0500
TZNAME:CDT
DTSTART:19700308T020000
RRULE:FREQ=YEARLY;BYMONTH=3;BYDAY=2SU
END:DAYLIGHT
BEGIN:STANDARD
TZOFFSETFROM:-0500
TZOFFSETTO:-0600
TZNAME:CST
DTSTART:19701101T020000
RRULE:FREQ=YEARLY;BYMONTH=11;BYDAY=1SU
END:STANDARD
END:VTIMEZONE
BEGIN:VEVENT
SUMMARY:Internship: Federal Public Defender
LOCATION:TBD
DTSTART;TZID=America/Chicago:20200826T000000
DTEND;TZID=America/Chicago:20200826T000000
RRULE:FREQ=WEEKLY;BYDAY=WE;UNTIL=20201207T220000
EXDATE;TZID=America/Chicago:20201125T000000
UID:7ab9f3865a6716b7d67e0a5fbb73dfdb
DTSTAMP:20260419T152827
DESCRIPTION:Instructors: Horatio R Aldredge, Susan R. Klein
END:VEVENT
END:VCALENDAR
