BEGIN:VCALENDAR
VERSION:2.0
PRODID:-//law.utexas.edu//Course Schedule//EN
CALSCALE:GREGORIAN
METHOD:PUBLISH
BEGIN:VTIMEZONE
TZID:America/Chicago
X-LIC-LOCATION:America/Chicago
BEGIN:DAYLIGHT
TZOFFSETFROM:-0600
TZOFFSETTO:-0500
TZNAME:CDT
DTSTART:19700308T020000
RRULE:FREQ=YEARLY;BYMONTH=3;BYDAY=2SU
END:DAYLIGHT
BEGIN:STANDARD
TZOFFSETFROM:-0500
TZOFFSETTO:-0600
TZNAME:CST
DTSTART:19701101T020000
RRULE:FREQ=YEARLY;BYMONTH=11;BYDAY=1SU
END:STANDARD
END:VTIMEZONE
BEGIN:VEVENT
SUMMARY:Internship: Prosecution
LOCATION:TNH 3.140
DTSTART;TZID=America/Chicago:20200826T182500
DTEND;TZID=America/Chicago:20200826T201500
RRULE:FREQ=WEEKLY;BYDAY=WE;UNTIL=20201207T220000
EXDATE;TZID=America/Chicago:20201125T182500
UID:c16b7cbe9df14e46d3d66d82ea34d734
DTSTAMP:20260419T212159
DESCRIPTION:Instructors: Jeremy Shane Sylestine, Robert N. Kepple
END:VEVENT
END:VCALENDAR
